BEGIN:VCALENDAR
VERSION:2.0
PRODID:-//wp-events-plugin.com//7.2.3.1//EN
TZID:Europe/Paris
X-WR-TIMEZONE:Europe/Paris
BEGIN:VEVENT
UID:7@friedaundidda.ch
DTSTART;TZID=Europe/Paris:20250926T190000
DTEND;TZID=Europe/Paris:20250926T230000
DTSTAMP:20250922T113749Z
URL:https://friedaundidda.ch/agenda/besuch-klanghaus-mit-mirjam-hadorn-viv
 ien-aerne-stump/
SUMMARY:Besuch Klanghaus mit Mirjam Hadorn & Vivien Aerne-Stump
DESCRIPTION:Wir nehmen dich mit auf eine Reise ins neue\, wunderschöne Kla
 nghaus direkt am Schwendisee – mit Mirjam Hadorn (CEO Klangwelt Toggenbu
 rg) und Vivien Aerne-Stump (Stump's Alpenrose).\nWichtige Hinweise zur Anr
 eise:Eine Anreise mit dem Auto ist nicht möglich. Es stehen keine Parkpl
 ätze beim Klanghaus oder bei der Alpenrose zur Verfügung.\nDer Shuttle M
 yBuxi fährt ab der Talstation Chäserrugg zu folgenden Zeiten (auf Anmeld
 ung):\n\n\n 	17.50 Uhr\n 	18.10 Uhr\n 	18.30 Uhr\n 	18.50 Uhr\n\nKosten: 7
  CHF pro Fahrt\, jeweils 7 Plätze verfügbar.\nRückfahrten:\n\n\n 	22.05
  Uhr\n 	22.25 Uhr\n 	22.45 Uhr\n 	23.05 Uhr\n\nEine Anmeldung für den Shu
 ttle ist erforderlich bis Freitag\, 26. September\, 12.00 Uhr an: praesidi
 um@friedaundidda.ch
ATTACH;FMTTYPE=image/jpeg:https://friedaundidda.ch/wp-content/uploads/2025
 /01/Klanghaus.jpg
CATEGORIES:Treffen
LOCATION:Klanghaus Toggenburg\, Vordere Schwendistrasse 61\, 9657 Unterwass
 er\, Schweiz
X-APPLE-STRUCTURED-LOCATION;VALUE=URI;X-ADDRESS=Vordere Schwendistrasse 61\
 , 9657 Unterwasser\, Schweiz;X-APPLE-RADIUS=100;X-TITLE=Klanghaus Toggenbu
 rg:geo:0,0
END:VEVENT
BEGIN:VTIMEZONE
TZID:Europe/Paris
X-LIC-LOCATION:Europe/Paris
BEGIN:DAYLIGHT
DTSTART:20250330T030000
TZOFFSETFROM:+0100
TZOFFSETTO:+0200
TZNAME:CEST
END:DAYLIGHT
END:VTIMEZONE
END:VCALENDAR