BEGIN:VCALENDAR
VERSION:2.0
PRODID:-//wp-events-plugin.com//7.2.3.1//EN
TZID:Europe/Paris
X-WR-TIMEZONE:Europe/Paris
BEGIN:VEVENT
UID:20@friedaundidda.ch
DTSTART;TZID=Europe/Paris:20260904T190000
DTEND;TZID=Europe/Paris:20260904T210000
DTSTAMP:20260106T151444Z
URL:https://friedaundidda.ch/agenda/besuch-schererei-mosnang-mit-jolanda-b
 raendle/
SUMMARY:Besuch Schererei Mosnang - mit Jolanda Brändle
DESCRIPTION:Wir laden ein in die Schererei Mosnang von Jolanda Brändle!\n\
 nWeitere Infos folgen.
ATTACH;FMTTYPE=image/jpeg:https://friedaundidda.ch/wp-content/uploads/2026
 /01/SoMe_Beitrag_Jolanda-Braendle.jpg
CATEGORIES:Treffen
LOCATION:Schererei Jolanda Brändle\, Bärenwiese 1\, Mosnang\, 9607\, Schw
 eiz
X-APPLE-STRUCTURED-LOCATION;VALUE=URI;X-ADDRESS=Bärenwiese 1\, Mosnang\, 9
 607\, Schweiz;X-APPLE-RADIUS=100;X-TITLE=Schererei Jolanda Brändle:geo:0,
 0
END:VEVENT
BEGIN:VTIMEZONE
TZID:Europe/Paris
X-LIC-LOCATION:Europe/Paris
BEGIN:DAYLIGHT
DTSTART:20260329T030000
TZOFFSETFROM:+0100
TZOFFSETTO:+0200
TZNAME:CEST
END:DAYLIGHT
END:VTIMEZONE
END:VCALENDAR