BEGIN:VCALENDAR
VERSION:2.0
PRODID:-//wp-events-plugin.com//7.2.3.1//EN
TZID:Europe/Paris
X-WR-TIMEZONE:Europe/Paris
BEGIN:VEVENT
UID:22@friedaundidda.ch
DTSTART;TZID=Europe/Paris:20260314T201500
DTEND;TZID=Europe/Paris:20260314T211500
DTSTAMP:20260310T201636Z
URL:https://friedaundidda.ch/agenda/elenita-queiroz-the-beast/
SUMMARY:Elenita Queiróz - The Beast
DESCRIPTION:Ein Tanz\, der sich weigert\, zu schweigen.\n\nThe Beast erkund
 et die Komplexität der Mutterschaft in ihren psychologischen\, emotionale
 n und physischen Dimensionen. Es lehnt romantisierende Darstellungen ab un
 d konfrontiert mit den unsichtbaren Opfern von Trauer\, Angst und Selbstve
 rlust\, während es universelle Erfahrungen der Transformation reflektiert
 . The Beast ist das letzte Kapitel einer Trilogie\, die auch Warning for C
 ontemplation Sections (2022) und The Fabulous Ones (2024) umfasst. Uraufge
 führt wird es im August 2025 beim PAULA Interfestival in St.Gallen. Das P
 rojekt schafft eine Plattform für unterdrückte Stimmen und bereichert de
 n zeitgenössischen Diskurs\, indem es einen Aufruf zur Akzeptanz von Verl
 etzlichkeit und Stärke formuliert. Es ist nicht nur ein Stück\, sondern 
 ein Statement.\n\nMehr Informationen und Tickets zur Aufführung findest d
 u bei zukunft.bahnhof.
ATTACH;FMTTYPE=image/jpeg:https://friedaundidda.ch/wp-content/uploads/2026
 /03/15bd8d_82a51c0b673d4e7b8bc6840041461c28mv2.jpeg
CATEGORIES:externe Veranstaltung
LOCATION:Bahnhalle (Chössi Theater)\, Freudenau 2092\, Lichtensteig\, 9620
 \, Schweiz
X-APPLE-STRUCTURED-LOCATION;VALUE=URI;X-ADDRESS=Freudenau 2092\, Lichtenste
 ig\, 9620\, Schweiz;X-APPLE-RADIUS=100;X-TITLE=Bahnhalle (Chössi Theater)
 :geo:0,0
END:VEVENT
BEGIN:VTIMEZONE
TZID:Europe/Paris
X-LIC-LOCATION:Europe/Paris
BEGIN:STANDARD
DTSTART:20251026T020000
TZOFFSETFROM:+0200
TZOFFSETTO:+0100
TZNAME:CET
END:STANDARD
END:VTIMEZONE
END:VCALENDAR