BEGIN:VCALENDAR
VERSION:2.0
PRODID:-//wp-events-plugin.com//7.2.3.1//EN
TZID:Europe/Paris
X-WR-TIMEZONE:Europe/Paris
BEGIN:VEVENT
UID:9@friedaundidda.ch
DTSTART;TZID=Europe/Paris:20250215T200000
DTEND;TZID=Europe/Paris:20250215T223000
DTSTAMP:20250204T112621Z
URL:https://friedaundidda.ch/agenda/friedas-fall-mit-frieda-idda-dir/
SUMMARY:Friedas Fall – mit Frieda\, Idda & dir? 
DESCRIPTION:Den neuen Film "Friedas Fall" im Kino Passerelle schauen – mi
 t Frieda &amp\; Idda! Gemeinsam mit dem Kino Passerelle laden wir ein\, de
 n eindrücklichen Film\, welcher die Geschichte von der 25-jährigen Nähe
 rin Frieda Keller im Jahr 1904 (St. Gallen) erzählt\, zusammen zu schauen
 .\n\nFilmstart ist um 20.00 Uhr. Im Anschluss Apéro und Austausch im Kino
 -Foyer.\n\nMehr Infos\, Preise und Reservation unter: https://kinopasserel
 le.ch/event/friedasfallfriedaundidda
ATTACH;FMTTYPE=image/jpeg:https://friedaundidda.ch/wp-content/uploads/2025
 /02/SoMe_Beitraege_Frieda-Idda.jpg
CATEGORIES:Treffen
LOCATION:Kino Passerelle\, Austrasse 3\, Wattwil\, Schweiz
X-APPLE-STRUCTURED-LOCATION;VALUE=URI;X-ADDRESS=Austrasse 3\, Wattwil\, Sch
 weiz;X-APPLE-RADIUS=100;X-TITLE=Kino Passerelle:geo:0,0
END:VEVENT
BEGIN:VTIMEZONE
TZID:Europe/Paris
X-LIC-LOCATION:Europe/Paris
BEGIN:STANDARD
DTSTART:20241027T020000
TZOFFSETFROM:+0200
TZOFFSETTO:+0100
TZNAME:CET
END:STANDARD
END:VTIMEZONE
END:VCALENDAR