BEGIN:VCALENDAR
VERSION:2.0
PRODID:-//wp-events-plugin.com//7.2.3.1//EN
TZID:Europe/Paris
X-WR-TIMEZONE:Europe/Paris
BEGIN:VEVENT
UID:2@friedaundidda.ch
DTSTART;TZID=Europe/Paris:20240927T190000
DTEND;TZID=Europe/Paris:20240927T190000
DTSTAMP:20240903T092758Z
URL:https://friedaundidda.ch/agenda/fuehrung-apero-und-gemuetliches-zusamm
 ensein/
SUMMARY:Führung\, Apéro und gemütliches Zusammensein
DESCRIPTION:Gastgeberin: Monika Bösch\, Verwaltungsratspräsidentin Brauer
 ei St. Johann\nkostenlos für Mitglieder &amp\; Nicht-Mitglieder\n\n-&gt\;
  zum Flyer
CATEGORIES:Treffen
LOCATION:Brauerei St. Johann\, Toggenburgerstrasse 3\, Neu St. Johann\, 965
 2\, Schweiz
X-APPLE-STRUCTURED-LOCATION;VALUE=URI;X-ADDRESS=Toggenburgerstrasse 3\, Neu
  St. Johann\, 9652\, Schweiz;X-APPLE-RADIUS=100;X-TITLE=Brauerei St. Johan
 n:geo:0,0
END:VEVENT
BEGIN:VTIMEZONE
TZID:Europe/Paris
X-LIC-LOCATION:Europe/Paris
BEGIN:DAYLIGHT
DTSTART:20240331T030000
TZOFFSETFROM:+0100
TZOFFSETTO:+0200
TZNAME:CEST
END:DAYLIGHT
END:VTIMEZONE
END:VCALENDAR