BEGIN:VCALENDAR
VERSION:2.0
PRODID:-//wp-events-plugin.com//7.2.3.1//EN
TZID:Europe/Paris
X-WR-TIMEZONE:Europe/Paris
BEGIN:VEVENT
UID:5@friedaundidda.ch
DTSTART;TZID=Europe/Paris:20250528T190000
DTEND;TZID=Europe/Paris:20250528T230000
DTSTAMP:20250504T090202Z
URL:https://friedaundidda.ch/agenda/gv-frieda-idda/
SUMMARY:GV Frieda & Idda
DESCRIPTION:Wir laden dich ganz herzlich zur ersten GV von Frieda &amp\; Id
 da ein! Feiere mit uns ein besonderes erstes Vereinsjahr\, bring dich ein\
 , geniesse Kabarett &amp\; Musik mit den CareBelles – und stoss mit uns 
 an. Herzlich eingeladen sind alle Mitglieder und auch Gäste sind herzlich
  willkommen. Wir freuen uns auf dich!\n\n 	Ab 18.30 Uhr: Türöffnung &amp
 \; Barbetrieb\n 	19.00 Uhr: Beginn der Hauptversammlung\n 	19.45 Uhr: Auff
 ührung „Bubble Girl“ mit den CareBelles\n 	Ab 20.15 Uhr: Feierliches 
 Anstossen &amp\; offener Barbetrieb\n\nWas erwartet euch?\n\n 	Einblick in
  das erste Vereinsjahr und unsere künftigen Pläne\n 	Kulturelles Highlig
 ht mit dem musikalischen Kabarett-Ensemble CareBelles\n 	Austausch &amp\; 
 Begegnung mit Barbetrieb\n\nBild: CareBelles mit „Bubble Girl“
ATTACH;FMTTYPE=image/jpeg:https://friedaundidda.ch/wp-content/uploads/2025
 /01/DSC_3549.jpg
CATEGORIES:Treffen
LOCATION:Chössi Theater\, Freudenau 2092\, Lichtensteig\, 9620\, Schweiz
X-APPLE-STRUCTURED-LOCATION;VALUE=URI;X-ADDRESS=Freudenau 2092\, Lichtenste
 ig\, 9620\, Schweiz;X-APPLE-RADIUS=100;X-TITLE=Chössi Theater:geo:0,0
END:VEVENT
BEGIN:VTIMEZONE
TZID:Europe/Paris
X-LIC-LOCATION:Europe/Paris
BEGIN:DAYLIGHT
DTSTART:20250330T030000
TZOFFSETFROM:+0100
TZOFFSETTO:+0200
TZNAME:CEST
END:DAYLIGHT
END:VTIMEZONE
END:VCALENDAR