BEGIN:VCALENDAR
VERSION:2.0
PRODID:-//wp-events-plugin.com//7.2.3.1//EN
TZID:Europe/Paris
X-WR-TIMEZONE:Europe/Paris
BEGIN:VEVENT
UID:13@friedaundidda.ch
DTSTART;TZID=Europe/Paris:20260116T190000
DTEND;TZID=Europe/Paris:20260116T230000
DTSTAMP:20260106T134249Z
URL:https://friedaundidda.ch/agenda/keramik-bemalen-barbetrieb-mit-dem-liv
 ing-museum-lichtensteig/
SUMMARY:Keramik bemalen & köstliche Getränke geniessen mit Lina Eckert vo
 m LIVING MUSEUM LICHTENSTEIG
DESCRIPTION:An diesem Treffen könnt ihr eurer Kreativität freien Lauf las
 sen\, feine Drinks geniessen und euch in geselliger Atmosphäre austausche
 n.\n\nFr. 15.00 fürs Keramik-Bemalen (Materialkosten)
ATTACH;FMTTYPE=image/jpeg:https://friedaundidda.ch/wp-content/uploads/2025
 /10/SoMe_Beitrag_Lina-Eckert-1.jpg
CATEGORIES:Treffen
LOCATION:Stadtufer\, Stadtbrücke 3\, Lichtensteig\, 9620\, Schweiz
X-APPLE-STRUCTURED-LOCATION;VALUE=URI;X-ADDRESS=Stadtbrücke 3\, Lichtenste
 ig\, 9620\, Schweiz;X-APPLE-RADIUS=100;X-TITLE=Stadtufer:geo:0,0
END:VEVENT
BEGIN:VTIMEZONE
TZID:Europe/Paris
X-LIC-LOCATION:Europe/Paris
BEGIN:STANDARD
DTSTART:20251026T020000
TZOFFSETFROM:+0200
TZOFFSETTO:+0100
TZNAME:CET
END:STANDARD
END:VTIMEZONE
END:VCALENDAR