BEGIN:VCALENDAR
VERSION:2.0
PRODID:-//wp-events-plugin.com//7.2.3.1//EN
TZID:Europe/Paris
X-WR-TIMEZONE:Europe/Paris
BEGIN:VEVENT
UID:8@friedaundidda.ch
DTSTART;TZID=Europe/Paris:20260220T190000
DTEND;TZID=Europe/Paris:20260220T230000
DTSTAMP:20260117T155923Z
URL:https://friedaundidda.ch/agenda/mental-load-wege-zu-mehr-leichtigkeit-
 im-alltag/
SUMMARY:Mental-Load: Wege zu mehr Leichtigkeit im Alltag – mit Simone Bod
 enmann-Heim
DESCRIPTION:Dich erwartet ein spannendes Referat von Simone Bodenmann-Heim 
 zu Mental-Load in der Partner- und/oder Elternschaft.
ATTACH;FMTTYPE=image/jpeg:https://friedaundidda.ch/wp-content/uploads/2025
 /01/SoMe_Beitrag_Simone-Bodenmann-Heim.jpg
CATEGORIES:Bilden
LOCATION:Macherzentrum Toggenburg\, Postgasse 1\, Lichtensteig\, 9620\, Sch
 weiz
X-APPLE-STRUCTURED-LOCATION;VALUE=URI;X-ADDRESS=Postgasse 1\, Lichtensteig\
 , 9620\, Schweiz;X-APPLE-RADIUS=100;X-TITLE=Macherzentrum Toggenburg:geo:0
 ,0
END:VEVENT
BEGIN:VTIMEZONE
TZID:Europe/Paris
X-LIC-LOCATION:Europe/Paris
BEGIN:STANDARD
DTSTART:20251026T020000
TZOFFSETFROM:+0200
TZOFFSETTO:+0100
TZNAME:CET
END:STANDARD
END:VTIMEZONE
END:VCALENDAR