BEGIN:VCALENDAR
VERSION:2.0
PRODID:-//wp-events-plugin.com//7.2.3.1//EN
TZID:Europe/Paris
X-WR-TIMEZONE:Europe/Paris
BEGIN:VEVENT
UID:12@friedaundidda.ch
DTSTART;TZID=Europe/Paris:20251128T190000
DTEND;TZID=Europe/Paris:20251128T230000
DTSTAMP:20251103T195547Z
URL:https://friedaundidda.ch/agenda/mutig-ins-neue-jahr-mit-daniela-haelg/
SUMMARY:Mutig ins neue Jahr – mit Daniela Hälg
DESCRIPTION:Auf dem Sterbebett möchte Daniela Hälg einst sagen können: J
 a\, ich habe mutig gelebt. In diesem interaktiven Vortrag teilt sie persö
 nliche Geschichten und Übungen für den ganz eigenen mutigen Weg. Dabei k
 ommen wir der Intuition auf die Spur\, entdecken den inneren Anker\, der u
 ns auch Klarheit gibt\, wenn es draussen stürmt\, und finden vielleicht d
 einen nächsten kühnen Schritt.\n\nÜber Daniela Hälg: Daniela Hälg ist
  Purpose Coach und Kaospilotin. Sie hilft Menschen dabei\, ihr Leben mutig
  zu leben – meistens geht es dabei darum\, mehr der Freude zu folgen. Ih
 re Leidenschaft sind die Fragen: Who are you meant to be? Und: was ist dei
 n Kompass in diesen wilden Zeiten? Sie träumt von einer Welt\, in der sic
 h alle bewusst sind\, wer sie im Kern sind und was sie in die Welt bringen
  wollen. Sie ist Mutter von zwei Kindern\, in der Region Wil und der Welt 
 zu Hause.\n\nMehr zu Daniela findest du auf ihrer Website.
ATTACH;FMTTYPE=image/jpeg:https://friedaundidda.ch/wp-content/uploads/2025
 /10/SoMe_Beitrag_Daniela-Haelg.jpg
CATEGORIES:Bilden
LOCATION:Macherzentrum Toggenburg\, Postgasse 1\, Lichtensteig\, 9620\, Sch
 weiz
X-APPLE-STRUCTURED-LOCATION;VALUE=URI;X-ADDRESS=Postgasse 1\, Lichtensteig\
 , 9620\, Schweiz;X-APPLE-RADIUS=100;X-TITLE=Macherzentrum Toggenburg:geo:0
 ,0
END:VEVENT
BEGIN:VTIMEZONE
TZID:Europe/Paris
X-LIC-LOCATION:Europe/Paris
BEGIN:STANDARD
DTSTART:20251026T020000
TZOFFSETFROM:+0200
TZOFFSETTO:+0100
TZNAME:CET
END:STANDARD
END:VTIMEZONE
END:VCALENDAR