BEGIN:VCALENDAR
VERSION:2.0
PRODID:-//wp-events-plugin.com//7.2.3.1//EN
TZID:Europe/Paris
X-WR-TIMEZONE:Europe/Paris
BEGIN:VEVENT
UID:3@friedaundidda.ch
DTSTART;TZID=Europe/Paris:20250117T190000
DTEND;TZID=Europe/Paris:20250117T230000
DTSTAMP:20241228T172133Z
URL:https://friedaundidda.ch/agenda/speeddating/
SUMMARY:Speed-Dating
DESCRIPTION:Sei mit dabei\, wenn wir uns in der Eintracht Kirchberg zum Spe
 ed-Dating treffen!\nNein\, es geht nicht um eine Partnersuche\, sondern um
  die Erweiterung deines Netzwerks. Wir lernen uns gegenseitig beim Speed-D
 ating kennen und haben dabei einen lustigen Abend. Jede Frau ist herzlich 
 willkommen\, der Anlass ist kostenlos.\nWir freuen uns auf dich!
ATTACH;FMTTYPE=image/jpeg:https://friedaundidda.ch/wp-content/uploads/2024
 /12/SoMe_Beitrag_Treffen_Eintracht-250117.jpg
CATEGORIES:Treffen
LOCATION:Eintracht Kirchberg\, Neudorfstrasse 5\, 9533 Kirchberg SG\, Schwe
 iz
X-APPLE-STRUCTURED-LOCATION;VALUE=URI;X-ADDRESS=Neudorfstrasse 5\, 9533 Kir
 chberg SG\, Schweiz;X-APPLE-RADIUS=100;X-TITLE=Eintracht Kirchberg:geo:0,0
END:VEVENT
BEGIN:VTIMEZONE
TZID:Europe/Paris
X-LIC-LOCATION:Europe/Paris
BEGIN:STANDARD
DTSTART:20241027T020000
TZOFFSETFROM:+0200
TZOFFSETTO:+0100
TZNAME:CET
END:STANDARD
END:VTIMEZONE
END:VCALENDAR