BEGIN:VCALENDAR
VERSION:2.0
PRODID:-//wp-events-plugin.com//7.2.3.1//EN
TZID:Europe/Paris
X-WR-TIMEZONE:Europe/Paris
BEGIN:VEVENT
UID:14@friedaundidda.ch
DTSTART;TZID=Europe/Paris:20261030T190000
DTEND;TZID=Europe/Paris:20261030T230000
DTSTAMP:20260106T142723Z
URL:https://friedaundidda.ch/agenda/storytelling-mit-laura-maeder/
SUMMARY:Storytelling – mit Laura Mäder
DESCRIPTION:Storytelling - warum sollte man diese Kunst beherrschen und wie
  kann man sie erlernen? Das erfährst du am Bilden-Anlass mit Expertin Lau
 ra Mäder.\n\nWeitere Infos zu diesem Anlass folgen.
ATTACH;FMTTYPE=image/jpeg:https://friedaundidda.ch/wp-content/uploads/2025
 /10/SoMe_Beitrag_Laura-Maeder-1.jpg
CATEGORIES:Bilden
LOCATION:Macherzentrum Toggenburg\, Postgasse 1\, Lichtensteig\, 9620\, Sch
 weiz
X-APPLE-STRUCTURED-LOCATION;VALUE=URI;X-ADDRESS=Postgasse 1\, Lichtensteig\
 , 9620\, Schweiz;X-APPLE-RADIUS=100;X-TITLE=Macherzentrum Toggenburg:geo:0
 ,0
END:VEVENT
BEGIN:VTIMEZONE
TZID:Europe/Paris
X-LIC-LOCATION:Europe/Paris
BEGIN:STANDARD
DTSTART:20261025T020000
TZOFFSETFROM:+0200
TZOFFSETTO:+0100
TZNAME:CET
END:STANDARD
END:VTIMEZONE
END:VCALENDAR