BEGIN:VCALENDAR
VERSION:2.0
PRODID:-//wp-events-plugin.com//7.2.3.1//EN
TZID:Europe/Paris
X-WR-TIMEZONE:Europe/Paris
BEGIN:VEVENT
UID:11@friedaundidda.ch
DTSTART;TZID=Europe/Paris:20250823T133000
DTEND;TZID=Europe/Paris:20250823T150000
DTSTAMP:20250504T093140Z
URL:https://friedaundidda.ch/agenda/themenfuehrung-auf-frauenspuren-im-tog
 genburg/
SUMMARY:Themenführung: Auf Frauenspuren im Toggenburg
DESCRIPTION:Frieda &amp\; Idda empfehlen:\n\nEin besonderer Stadtspaziergan
 g in Lichtensteig für alle\, die sich für Frauengeschichte interessieren
 : Am 23. August lädt Martha Rätz zu einer Führung durch Städtli ein 
 – mit Fokus auf die Geschichten von Frauen aus dem Toggenburg. Wer waren
  sie? Wie haben sie gelebt\, gewirkt und geprägt?\n\n 	Der Unkostenbeitra
 g pro Person beträgt CHF 10.00\n 	Treffpunkt: Rathaus-Treppe\n 	Nach den 
 Führungen wird Ihnen ein Apéro in der Gall‘schen Offizin offeriert.\n\
 nMehr Infos unter lichtensteig.ch 
ATTACH;FMTTYPE=image/jpeg:https://friedaundidda.ch/wp-content/uploads/2025
 /05/Bild-Frauen-im-Toggenburg-e1746351093942.jpg
CATEGORIES:externe Veranstaltung
END:VEVENT
BEGIN:VTIMEZONE
TZID:Europe/Paris
X-LIC-LOCATION:Europe/Paris
BEGIN:DAYLIGHT
DTSTART:20250330T030000
TZOFFSETFROM:+0100
TZOFFSETTO:+0200
TZNAME:CEST
END:DAYLIGHT
END:VTIMEZONE
END:VCALENDAR