BEGIN:VCALENDAR
VERSION:2.0
PRODID:-//wp-events-plugin.com//7.2.3.1//EN
TZID:Europe/Paris
X-WR-TIMEZONE:Europe/Paris
BEGIN:VEVENT
UID:6@friedaundidda.ch
DTSTART;TZID=Europe/Paris:20250605T190000
DTEND;TZID=Europe/Paris:20250605T230000
DTSTAMP:20250111T122338Z
URL:https://friedaundidda.ch/agenda/treffen-beim-baumwipfelpfad-mit-melani
 e-anon/
SUMMARY:Treffen beim Baumwipfelpfad mit Melanie Anon
DESCRIPTION:Freu dich auf eine spannende Führung und die Möglichkeit zu i
 nspirierendem Austausch in entspannter Atmosphäre im Grünen.
ATTACH;FMTTYPE=image/jpeg:https://friedaundidda.ch/wp-content/uploads/2025
 /01/Baumwipfelpfad.jpg
CATEGORIES:Treffen
LOCATION:Baumwipfelpfad Neckertal\, Lettenstrasse 19\, Mogelsberg\, 9122\, 
 Schweiz
X-APPLE-STRUCTURED-LOCATION;VALUE=URI;X-ADDRESS=Lettenstrasse 19\, Mogelsbe
 rg\, 9122\, Schweiz;X-APPLE-RADIUS=100;X-TITLE=Baumwipfelpfad Neckertal:ge
 o:0,0
END:VEVENT
BEGIN:VTIMEZONE
TZID:Europe/Paris
X-LIC-LOCATION:Europe/Paris
BEGIN:DAYLIGHT
DTSTART:20250330T030000
TZOFFSETFROM:+0100
TZOFFSETTO:+0200
TZNAME:CEST
END:DAYLIGHT
END:VTIMEZONE
END:VCALENDAR