BEGIN:VCALENDAR
VERSION:2.0
PRODID:-//wp-events-plugin.com//7.2.3.1//EN
TZID:Europe/Paris
X-WR-TIMEZONE:Europe/Paris
BEGIN:VEVENT
UID:16@friedaundidda.ch
DTSTART;TZID=Europe/Paris:20260620T140000
DTEND;TZID=Europe/Paris:20260620T170000
DTSTAMP:20260122T085602Z
URL:https://friedaundidda.ch/agenda/treffen-mit-den-kraeuterfrauen/
SUMMARY:Treffen mit den Kräuterfrauen
DESCRIPTION:Wir laden ein zu den Toggenburger Kräuterfrauen in Ebnat-Kappe
 l! \n\nDie Teilnehmerinnenzahl ist auf maximal 20 Personen begrenzt. Dahe
 r bitten wir um eine Anmeldung.\n\n[wpforms id="2642" title="true"]
ATTACH;FMTTYPE=image/jpeg:https://friedaundidda.ch/wp-content/uploads/2025
 /11/SoMe_Beitrag_Kraeuterfrauen.jpg
CATEGORIES:Treffen
LOCATION:Toggenburger Kräuterfrauen GmbH\, Hof-Wintersberg 2373\, Ebnat-Ka
 ppel\, 9642\, Schweiz
X-APPLE-STRUCTURED-LOCATION;VALUE=URI;X-ADDRESS=Hof-Wintersberg 2373\, Ebna
 t-Kappel\, 9642\, Schweiz;X-APPLE-RADIUS=100;X-TITLE=Toggenburger Kräuter
 frauen GmbH:geo:0,0
END:VEVENT
BEGIN:VTIMEZONE
TZID:Europe/Paris
X-LIC-LOCATION:Europe/Paris
BEGIN:DAYLIGHT
DTSTART:20260329T030000
TZOFFSETFROM:+0100
TZOFFSETTO:+0200
TZNAME:CEST
END:DAYLIGHT
END:VTIMEZONE
END:VCALENDAR