BEGIN:VCALENDAR
VERSION:2.0
PRODID:-//wp-events-plugin.com//7.2.3.1//EN
TZID:Europe/Paris
X-WR-TIMEZONE:Europe/Paris
BEGIN:VEVENT
UID:23@friedaundidda.ch
DTSTART;TZID=Europe/Paris:20260508T190000
DTEND;TZID=Europe/Paris:20260508T210000
DTSTAMP:20260421T205905Z
URL:https://friedaundidda.ch/agenda/verkostungsabenteuer-frauensache/
SUMMARY:Verkostungsabenteuer Frauensache!
DESCRIPTION:Wein ist mehr als süss oder sauer. In dieser entspannten Runde
  entdecken wir gemeinsam mit Daniela\, wie Herkunft\, Fass und Reife den C
 harakter eines Weins prägen.\n\nWir degustieren\, vergleichen und tausche
 n Eindrücke aus. Ohne Vorwissen\, aber mit viel Neugier und Gefühl für 
 das eigene Erleben.\n\nDazu gibt es leichte Häppchen für einen gemütlic
 hen Ausklang.\n\nDatum: Freitag\, 8. Mai 2026\nZeit: 19 bis 21 Uhr\nMaxima
 l 20 Teilnehmerinnen.
ATTACH;FMTTYPE=image/jpeg:https://friedaundidda.ch/wp-content/uploads/2026
 /04/Screenshot-2026-04-21-225724.jpg
CATEGORIES:externe Veranstaltung
LOCATION:Prosterei\, Hauptgasse 32\, Lichtensteig\, 9620\, Schweiz
X-APPLE-STRUCTURED-LOCATION;VALUE=URI;X-ADDRESS=Hauptgasse 32\, Lichtenstei
 g\, 9620\, Schweiz;X-APPLE-RADIUS=100;X-TITLE=Prosterei:geo:0,0
END:VEVENT
BEGIN:VTIMEZONE
TZID:Europe/Paris
X-LIC-LOCATION:Europe/Paris
BEGIN:DAYLIGHT
DTSTART:20260329T030000
TZOFFSETFROM:+0100
TZOFFSETTO:+0200
TZNAME:CEST
END:DAYLIGHT
END:VTIMEZONE
END:VCALENDAR