BEGIN:VCALENDAR
VERSION:2.0
PRODID:-//wp-events-plugin.com//7.2.3.1//EN
TZID:Europe/Paris
X-WR-TIMEZONE:Europe/Paris
BEGIN:VEVENT
UID:4@friedaundidda.ch
DTSTART;TZID=Europe/Paris:20250321T190000
DTEND;TZID=Europe/Paris:20250321T230000
DTSTAMP:20241228T172315Z
URL:https://friedaundidda.ch/agenda/vorsorge/
SUMMARY:Vorsorge als Frau: Selbstbestimmt und abgesichert in jeder Lebensph
 ase
DESCRIPTION:Frauen werden bei der beruflichen und der privaten Vorsorge vor
  grosse Herausforderungen gestellt. Trotz voranschreitender Gleichberechti
 gung kommt es durch Babypausen\, Teilzeitarbeit\, Kinderbetreuung zu Lück
 en in der Altersvorsorge. Gemeinsam mit der Toggenburgerin Tamara Hüberli
  bilden wir uns weiter im Thema Vorsorge und bekommen Tipps für ein selbs
 tbestimmtes Leben im Rentenalter.\nTamara Hüberli arbeitet bei Hüberli L
 awyers AG in Wattwil und ist Expertin in Sachen Banking &amp\; Finance\, V
 orsorge sowie Immobilien. Wir freuen uns auf die spannende Weiterbildung u
 nd auf den gemeinsamen Austausch danach! Alle Frauen sind herzlich eingela
 den\, der Anlass ist kostenlos.
ATTACH;FMTTYPE=image/jpeg:https://friedaundidda.ch/wp-content/uploads/2024
 /12/SoMe_Beitrag_Bilden_Macherzentrum-250321.jpg
CATEGORIES:Bilden
LOCATION:Macherzentrum Toggenburg\, Postgasse 1\, Lichtensteig\, 9620\, Sch
 weiz
X-APPLE-STRUCTURED-LOCATION;VALUE=URI;X-ADDRESS=Postgasse 1\, Lichtensteig\
 , 9620\, Schweiz;X-APPLE-RADIUS=100;X-TITLE=Macherzentrum Toggenburg:geo:0
 ,0
END:VEVENT
BEGIN:VTIMEZONE
TZID:Europe/Paris
X-LIC-LOCATION:Europe/Paris
BEGIN:STANDARD
DTSTART:20241027T020000
TZOFFSETFROM:+0200
TZOFFSETTO:+0100
TZNAME:CET
END:STANDARD
END:VTIMEZONE
END:VCALENDAR