BEGIN:VCALENDAR
VERSION:2.0
PRODID:-//wp-events-plugin.com//7.2.3.1//EN
TZID:Europe/Paris
X-WR-TIMEZONE:Europe/Paris
BEGIN:VEVENT
UID:1@friedaundidda.ch
DTSTART;TZID=Europe/Paris:20241129T190000
DTEND;TZID=Europe/Paris:20241129T190000
DTSTAMP:20241118T104402Z
URL:https://friedaundidda.ch/agenda/vortrag-zur-arbeitspsychologie-in-der-
 praxis/
SUMMARY:Vortrag zur Arbeitspsychologie in der Praxis
DESCRIPTION:Referentin: Nadja Brändle\, Präsidentin Macherzentrum Toggenb
 urg\nkostenlos für Mitglieder &amp\; Nicht-Mitglieder\nohne Anmeldung\n\n
 -&gt\; zum Flyer
CATEGORIES:Bilden
LOCATION:Macherzentrum Toggenburg\, Postgasse 1\, Lichtensteig\, 9620\, Sch
 weiz
X-APPLE-STRUCTURED-LOCATION;VALUE=URI;X-ADDRESS=Postgasse 1\, Lichtensteig\
 , 9620\, Schweiz;X-APPLE-RADIUS=100;X-TITLE=Macherzentrum Toggenburg:geo:0
 ,0
END:VEVENT
BEGIN:VTIMEZONE
TZID:Europe/Paris
X-LIC-LOCATION:Europe/Paris
BEGIN:STANDARD
DTSTART:20241027T020000
TZOFFSETFROM:+0200
TZOFFSETTO:+0100
TZNAME:CET
END:STANDARD
END:VTIMEZONE
END:VCALENDAR